BEGIN:VCALENDAR
VERSION:2.0
PRODID:-//Route 22 - ECPv6.15.18//NONSGML v1.0//EN
CALSCALE:GREGORIAN
METHOD:PUBLISH
X-WR-CALNAME:Route 22
X-ORIGINAL-URL:https://route22gallery.com
X-WR-CALDESC:Events for Route 22
REFRESH-INTERVAL;VALUE=DURATION:PT1H
X-Robots-Tag:noindex
X-PUBLISHED-TTL:PT1H
BEGIN:VTIMEZONE
TZID:America/Edmonton
BEGIN:DAYLIGHT
TZOFFSETFROM:-0700
TZOFFSETTO:-0600
TZNAME:MDT
DTSTART:20250309T090000
END:DAYLIGHT
BEGIN:STANDARD
TZOFFSETFROM:-0600
TZOFFSETTO:-0700
TZNAME:MST
DTSTART:20251102T080000
END:STANDARD
BEGIN:DAYLIGHT
TZOFFSETFROM:-0700
TZOFFSETTO:-0600
TZNAME:MDT
DTSTART:20260308T090000
END:DAYLIGHT
BEGIN:STANDARD
TZOFFSETFROM:-0600
TZOFFSETTO:-0700
TZNAME:MST
DTSTART:20261101T080000
END:STANDARD
BEGIN:DAYLIGHT
TZOFFSETFROM:-0700
TZOFFSETTO:-0600
TZNAME:MDT
DTSTART:20270314T090000
END:DAYLIGHT
BEGIN:STANDARD
TZOFFSETFROM:-0600
TZOFFSETTO:-0700
TZNAME:MST
DTSTART:20271107T080000
END:STANDARD
END:VTIMEZONE
BEGIN:VEVENT
DTSTART;TZID=America/Edmonton:20260416T180000
DTEND;TZID=America/Edmonton:20260416T200000
DTSTAMP:20260422T025852
CREATED:20260328T042609Z
LAST-MODIFIED:20260328T042609Z
UID:143622-1776362400-1776369600@route22gallery.com
SUMMARY:Open Art Studio Drop-In Sessions!
DESCRIPTION:Open Art Studio Drop-In Sessions! \nJoin Kim Cota in a dedicated space designed for those who need the time\, space\, and materials to move their creative projects forward. \nIn a busy schedule\, it can be difficult to carve out a few hours to focus on making. This time provides a low-pressure\, self-guided environment where you can work on an existing project or experiment with something entirely new. \nThere are no formal lessons or critiques here. Instead\, this is a space for creating in community. Whether you’re a lifelong artist or haven’t picked up a tool in years\, the focus is entirely on the process of creating at your own pace. \nAll are welcome! \nDates: April 8th and 16th\, 2026 \nTime: 6:00 PM – 8:00 PM \nLocation: Route 22 Artist Collective Gallery \nPrice: FREE! \nAges: 18+ \nMore information and registration HERE!
URL:https://route22gallery.com/event/open-art-studio-drop-in-sessions-apr-16/
LOCATION:Route 22 Artist Collective Gallery\, 208 1 St W 208 1 Street West\, Cochrane\, Alberta\, T4C 2E7\, Canada
CATEGORIES:Art Class,Workshops
ATTACH;FMTTYPE=image/jpeg:https://route22gallery.com/wp-content/uploads/2026/03/Kim-Cota-Open-Art-Studio-Sessions.jpg
ORGANIZER;CN="Route 22 Artist Collective Gallery":MAILTO:programming@r22backup.tempurl.host
END:VEVENT
END:VCALENDAR