BEGIN:VCALENDAR
VERSION:2.0
PRODID:-//Route 22 - ECPv6.15.18//NONSGML v1.0//EN
CALSCALE:GREGORIAN
METHOD:PUBLISH
X-WR-CALNAME:Route 22
X-ORIGINAL-URL:https://route22gallery.com
X-WR-CALDESC:Events for Route 22
REFRESH-INTERVAL;VALUE=DURATION:PT1H
X-Robots-Tag:noindex
X-PUBLISHED-TTL:PT1H
BEGIN:VTIMEZONE
TZID:America/Edmonton
BEGIN:DAYLIGHT
TZOFFSETFROM:-0700
TZOFFSETTO:-0600
TZNAME:MDT
DTSTART:20250309T090000
END:DAYLIGHT
BEGIN:STANDARD
TZOFFSETFROM:-0600
TZOFFSETTO:-0700
TZNAME:MST
DTSTART:20251102T080000
END:STANDARD
BEGIN:DAYLIGHT
TZOFFSETFROM:-0700
TZOFFSETTO:-0600
TZNAME:MDT
DTSTART:20260308T090000
END:DAYLIGHT
BEGIN:STANDARD
TZOFFSETFROM:-0600
TZOFFSETTO:-0700
TZNAME:MST
DTSTART:20261101T080000
END:STANDARD
BEGIN:DAYLIGHT
TZOFFSETFROM:-0700
TZOFFSETTO:-0600
TZNAME:MDT
DTSTART:20270314T090000
END:DAYLIGHT
BEGIN:STANDARD
TZOFFSETFROM:-0600
TZOFFSETTO:-0700
TZNAME:MST
DTSTART:20271107T080000
END:STANDARD
END:VTIMEZONE
BEGIN:VEVENT
DTSTART;TZID=America/Edmonton:20260424T100000
DTEND;TZID=America/Edmonton:20260424T153000
DTSTAMP:20260424T023951
CREATED:20260410T002446Z
LAST-MODIFIED:20260410T002658Z
UID:143669-1777024800-1777044600@route22gallery.com
SUMMARY:Exploring the Art of Collage Workshop
DESCRIPTION:Exploring the Art of Collage Workshop with Susan Ballantine \nJoin Susan Ballantine for a day of creativity in this beginner-friendly collage workshop! \nUsing paint\, paper\, shape\, and colour\, you’ll be guided through the process of developing your own unique artwork. Susan will provide demonstrations\, examples\, and supportive guidance while participants share ideas and explore creative possibilities together. \nALL supplies are included\, including: \n\nEasels\nPaint\nBrushes\nMediums\nVariety of papers\n\nYou’re also welcome to bring any personal papers\, photos\, or images you’d like to incorporate into your piece. \nNo experience is necessary\, just come ready to experiment and have fun! \nPlease wear painting clothes and bring a lunch\, or feel free to step out to nearby lunch spots during the break! \nDate: April 24th\, 2026 \nTime: 10:00 AM – 3:30 PM (30 minute break for lunch) \nLocation: Route 22 Artist Collective Gallery \nPrice: $85 + GST | Fees \nAges: 18+ \nMore information & Registration HERE!
URL:https://route22gallery.com/event/exploring-the-art-of-collage-workshop/
LOCATION:Route 22 Artist Collective Gallery\, 208 1 St W 208 1 Street West\, Cochrane\, Alberta\, T4C 2E7\, Canada
CATEGORIES:Art Class,Workshops
ATTACH;FMTTYPE=image/jpeg:https://route22gallery.com/wp-content/uploads/2026/04/Exploring-the-Art-of-Collage-Poster.jpg
ORGANIZER;CN="Route 22 Artist Collective Gallery":MAILTO:programming@r22backup.tempurl.host
END:VEVENT
BEGIN:VEVENT
DTSTART;TZID=America/Edmonton:20260424T160000
DTEND;TZID=America/Edmonton:20260424T190000
DTSTAMP:20260424T023951
CREATED:20260408T195306Z
LAST-MODIFIED:20260408T195306Z
UID:143665-1777046400-1777057200@route22gallery.com
SUMMARY:Beyond the Pane Opening Reception
DESCRIPTION:Route 22 proudly presents our next SOLO Exhibition in our downtown Cochrane Gallery location. \n“Beyond the Pane” – Art Exhibition featuring the art of local stained glass artist Sharon Pshyk. \nThis exhibition is showing from April 20 to May 24\, 2026. \nExperience the wonderful interplay of light and colour in Sharon’s unique glass creations alongside her use of materials from driftwood\, crystals\, beads\, and rocks! \nOpening Reception | Celebration: \nFriday – April 24\, 2026 \nTime: 4:00 PM to 7:00 PM \nLocation: Route 22 Artist Collective Gallery\, Cochrane\, AB. \nRefreshments will be provided! \nAll are welcome!
URL:https://route22gallery.com/event/beyond-the-pane-opening-reception/
LOCATION:Route 22 Artist Collective Gallery\, 208 1 St W 208 1 Street West\, Cochrane\, Alberta\, T4C 2E7\, Canada
CATEGORIES:Exhibitions,Meet the Artists,Opening Reception
ATTACH;FMTTYPE=image/jpeg:https://route22gallery.com/wp-content/uploads/2026/04/1.jpg
ORGANIZER;CN="Route 22 Artist Collective Gallery":MAILTO:programming@r22backup.tempurl.host
END:VEVENT
BEGIN:VEVENT
DTSTART;TZID=America/Edmonton:20260424T190000
DTEND;TZID=America/Edmonton:20260424T210000
DTSTAMP:20260424T023951
CREATED:20260410T003225Z
LAST-MODIFIED:20260410T003225Z
UID:143675-1777057200-1777064400@route22gallery.com
SUMMARY:Springtime Paint & Sip Night!
DESCRIPTION:Springtime Paint & Sip Night with Susan Ballantine \nJoin us for an evening of some Springtime painting with Susan and leave with a finished piece! \nNo experience is necessary and all supplies will be included! \nAll are welcome! \nRoute 22’s bar will also be open for some alcoholic (and non-alcoholic!) beverages. \nDates: April 24th\, 2026 \nTime: 7:00 PM – 9:00 PM \nLocation: Route 22 Artist Collective Gallery \nPrice: $25 + GST | Fees \nAges: 18+ \nMore Information and Registration HERE!
URL:https://route22gallery.com/event/springtime-paint-sip-night-2/
LOCATION:Route 22 Artist Collective Gallery\, 208 1 St W 208 1 Street West\, Cochrane\, Alberta\, T4C 2E7\, Canada
CATEGORIES:Art Class,Workshops
ATTACH;FMTTYPE=image/jpeg:https://route22gallery.com/wp-content/uploads/2026/04/Spring-Time-Paint-Night-Poster.jpg
ORGANIZER;CN="Route 22 Artist Collective Gallery":MAILTO:programming@r22backup.tempurl.host
END:VEVENT
END:VCALENDAR