BEGIN:VCALENDAR
VERSION:2.0
PRODID:-//Route 22 - ECPv6.15.18//NONSGML v1.0//EN
CALSCALE:GREGORIAN
METHOD:PUBLISH
X-ORIGINAL-URL:https://route22gallery.com
X-WR-CALDESC:Events for Route 22
REFRESH-INTERVAL;VALUE=DURATION:PT1H
X-Robots-Tag:noindex
X-PUBLISHED-TTL:PT1H
BEGIN:VTIMEZONE
TZID:America/Edmonton
BEGIN:DAYLIGHT
TZOFFSETFROM:-0700
TZOFFSETTO:-0600
TZNAME:MDT
DTSTART:20240310T090000
END:DAYLIGHT
BEGIN:STANDARD
TZOFFSETFROM:-0600
TZOFFSETTO:-0700
TZNAME:MST
DTSTART:20241103T080000
END:STANDARD
BEGIN:DAYLIGHT
TZOFFSETFROM:-0700
TZOFFSETTO:-0600
TZNAME:MDT
DTSTART:20250309T090000
END:DAYLIGHT
BEGIN:STANDARD
TZOFFSETFROM:-0600
TZOFFSETTO:-0700
TZNAME:MST
DTSTART:20251102T080000
END:STANDARD
BEGIN:DAYLIGHT
TZOFFSETFROM:-0700
TZOFFSETTO:-0600
TZNAME:MDT
DTSTART:20260308T090000
END:DAYLIGHT
BEGIN:STANDARD
TZOFFSETFROM:-0600
TZOFFSETTO:-0700
TZNAME:MST
DTSTART:20261101T080000
END:STANDARD
END:VTIMEZONE
BEGIN:VEVENT
DTSTART;TZID=America/Edmonton:20250826T090000
DTEND;TZID=America/Edmonton:20250828T210000
DTSTAMP:20260421T074058
CREATED:20250731T213714Z
LAST-MODIFIED:20250810T194833Z
UID:139082-1756198800-1756414800@route22gallery.com
SUMMARY:Art of the Wild: A Dwayne Harty Master Class
DESCRIPTION:Art of the Wild: A Dwayne Harty MasterClass is your chance to paint alongside a master. Spend your days in hands-on workshops with renowned wildlife artist Dwayne Harty at the scenic Glenbow Ranch Park (indoors & outdoors)\, then unwind with inspiring evening talks and art presentations at Route 22 Gallery in historic Downtown Cochrane. Connect\, create\, and be inspired. \nHands-on workshops with world-renowned wildlife artist Dwayne Harty\, with inspiring evening talks and art presentations. \nDates: Aug 26- 28th\, 2025 \nAudience: Adults 18+ \nRegistration Cost: \n– Early Bird Special: $500.00 until AUGUST 15th \n– Regular Registration Price: $750.00 [after August 15th] \nRegistrants are encouraged to also register as a participating artist for Art in the Park\, with opportunities to put their learning from the workshop into practice at the park! Join other plein-air artists for the 29/30th and enjoy the Wet Paint Sale & Soirée on Saturday evening! \nMore Information & Registration HERE!
URL:https://route22gallery.com/event/art-of-the-wild-a-dwayne-harty-master-class/
LOCATION:Route 22 Artist Collective Gallery\, 208 1 St W 208 1 Street West\, Cochrane\, Alberta\, T4C 2E7\, Canada
CATEGORIES:Cochrane Discovery Days,Come Paint Alberta,Workshops
ATTACH;FMTTYPE=image/png:https://route22gallery.com/wp-content/uploads/2025/07/dwaynehartysocialpost.png
ORGANIZER;CN="Route 22 Artist Collective Gallery":MAILTO:programming@r22backup.tempurl.host
END:VEVENT
BEGIN:VEVENT
DTSTART;TZID=America/Edmonton:20250829T090000
DTEND;TZID=America/Edmonton:20250829T120000
DTSTAMP:20260421T074058
CREATED:20250731T220142Z
LAST-MODIFIED:20250731T220142Z
UID:139089-1756458000-1756468800@route22gallery.com
SUMMARY:Learn Landscape Painting with Stephen Purdy
DESCRIPTION:Learn Landscape Painting with Stephen Purdy! \nDip your toes (or paintbrushes) into plein air painting and learn to make the landscape that you see real in your paintings. \nDate: Friday\, August 29th\, 2025 \nLocation: Glenbow Ranch Provincial Park (please meet at pathway entrance to the park). \nTime: 9:00 AM – 12:00 PM | Meet at 9:00 AM at the picnic tables by the parking lot. \nCost: $25.00 \nAudience: All Ages! \nAttire: Dress for being outside. Warm layers\, sunscreen\, etc. Pack water or something warm to drink. \nWhat Students Will Learn: \n– Learn to make the landscape that you see real in your paintings. \n– Students will learn how to compose a painting\, establish a strong base design and an approach to detailing and finishing. \n– The goal of the class is for each student to take home a painting they can be proud of. \n– The format for the class will be a demonstration of painting stages\, with most of the time focused on each individual student’s painting. \nMore Information & Registration HERE!
URL:https://route22gallery.com/event/learn-landscape-painting-with-stephen-purdy/
LOCATION:Glenbow Ranch Provincial Park\, 255001 Glenbow Rd\, Cochrane\, Alberta\, T4C 0B7\, Canada
CATEGORIES:Cochrane Discovery Days,Come Paint Alberta,Workshops
ATTACH;FMTTYPE=image/png:https://route22gallery.com/wp-content/uploads/2025/07/purdyworkshopsocialpost.png
ORGANIZER;CN="Route 22 Artist Collective Gallery":MAILTO:programming@r22backup.tempurl.host
END:VEVENT
BEGIN:VEVENT
DTSTART;VALUE=DATE:20250830
DTEND;VALUE=DATE:20250901
DTSTAMP:20260421T074058
CREATED:20250718T223709Z
LAST-MODIFIED:20250818T202846Z
UID:138962-1756512000-1756684799@route22gallery.com
SUMMARY:Cochrane Discovery Days
DESCRIPTION:Join us on Saturday\, August 30th for Cochrane Discovery Days!! \nA town-wide festival built on the foundations of the Cochrane Lions Rodeo and Labour Day parade. \nExpect free Artist Demonstrations\, historical re-enactments\, cultural celebrations\, Indigenous performances\, and strolling historical actors and performers. \nMore information visit this link at Discover Cochrane! 
URL:https://route22gallery.com/event/cochrane-discovery-days/
LOCATION:Alberta
CATEGORIES:Cochrane Discovery Days
ATTACH;FMTTYPE=image/png:https://route22gallery.com/wp-content/uploads/2025/07/Cochrane-Discovery-Days.png
END:VEVENT
BEGIN:VEVENT
DTSTART;TZID=America/Edmonton:20250830T160000
DTEND;TZID=America/Edmonton:20250830T200000
DTSTAMP:20260421T074058
CREATED:20250718T222423Z
LAST-MODIFIED:20250810T194428Z
UID:138958-1756569600-1756584000@route22gallery.com
SUMMARY:Wet Paint Sale & Soirée Event
DESCRIPTION:WET PAINT SALE & SOIRÉE EVENT! \nPlease join us for Art in the Park’s WET PAINT SALE & SOIRÉE in celebration and admiration of all the beautiful Cochrane landscapes as captured in real time by the Festival’s participating Plein Air Artists. \nThis “soirée” is open to all to attend and mingle with artists\, peruse the artworks (available for purchasing) and enjoy all the festivities of Discovery Days\, including newly curated\, juried artworks as we combine the evening with our INTERCHANGE reception! \nNibbles and refreshments available along with a cash bar. \nDATE: SATURDAY\, August 30th\, 2025 \nLOCATION: Route 22 Artist Collective Gallery | 208 1st W.\, Cochrane \nTIME: 4:00 PM – 8:00 PM \nCOST: FREE \nFor more information about Art in the Park Plein Air Festival: \n– Please visit our website at r22backup.tempurl.host/come-paint-alberta/!
URL:https://route22gallery.com/event/wet-paint-sale-soiree-event/
LOCATION:Route 22 Artist Collective Gallery\, 208 1 St W 208 1 Street West\, Cochrane\, Alberta\, T4C 2E7\, Canada
CATEGORIES:Cochrane Discovery Days,Come Paint Alberta,Opening Reception
ATTACH;FMTTYPE=image/png:https://route22gallery.com/wp-content/uploads/2025/07/Wet-Paint-Sale-Soiree-Aug-2025-POSTER-SOCIAL-POST-scaled.png
ORGANIZER;CN="Route 22 Artist Collective Gallery":MAILTO:programming@r22backup.tempurl.host
END:VEVENT
END:VCALENDAR