BEGIN:VCALENDAR
VERSION:2.0
PRODID:-//Route 22 - ECPv6.15.18//NONSGML v1.0//EN
CALSCALE:GREGORIAN
METHOD:PUBLISH
X-WR-CALNAME:Route 22
X-ORIGINAL-URL:https://route22gallery.com
X-WR-CALDESC:Events for Route 22
REFRESH-INTERVAL;VALUE=DURATION:PT1H
X-Robots-Tag:noindex
X-PUBLISHED-TTL:PT1H
BEGIN:VTIMEZONE
TZID:America/Edmonton
BEGIN:DAYLIGHT
TZOFFSETFROM:-0700
TZOFFSETTO:-0600
TZNAME:MDT
DTSTART:20250309T090000
END:DAYLIGHT
BEGIN:STANDARD
TZOFFSETFROM:-0600
TZOFFSETTO:-0700
TZNAME:MST
DTSTART:20251102T080000
END:STANDARD
BEGIN:DAYLIGHT
TZOFFSETFROM:-0700
TZOFFSETTO:-0600
TZNAME:MDT
DTSTART:20260308T090000
END:DAYLIGHT
BEGIN:STANDARD
TZOFFSETFROM:-0600
TZOFFSETTO:-0700
TZNAME:MST
DTSTART:20261101T080000
END:STANDARD
BEGIN:DAYLIGHT
TZOFFSETFROM:-0700
TZOFFSETTO:-0600
TZNAME:MDT
DTSTART:20270314T090000
END:DAYLIGHT
BEGIN:STANDARD
TZOFFSETFROM:-0600
TZOFFSETTO:-0700
TZNAME:MST
DTSTART:20271107T080000
END:STANDARD
END:VTIMEZONE
BEGIN:VEVENT
DTSTART;TZID=America/Edmonton:20260308T130000
DTEND;TZID=America/Edmonton:20260308T150000
DTSTAMP:20260423T175106
CREATED:20260307T233848Z
LAST-MODIFIED:20260307T233848Z
UID:143422-1772974800-1772982000@route22gallery.com
SUMMARY:Indigenous Arts & Culture Week Opening Reception!
DESCRIPTION:Cochrane’s Indigenous Arts & Culture Week! \nThe Opening Reception to Indigenous Arts & Culture Week in Cochrane 2026 this year features a multi venue Indigenous Art Exhibition featuring the works of Stoney Nakoda father-daughter artists Dennis and Daisynae Labelle\, whose creativity and cultural knowledge are expressed through powerful visual storytelling. \nThe exhibition will also include a special art tribute with works from late Amber Boyd\, former District 4 Captain for the Rocky View Métis District of the Otipemisiwak Métis Government\, as a special tribute honouring the legacy and contributions she gave to our community. \nThis Art Exhibition can be viewed at four locations: Route 22 Artist Collective Gallery\, Cochrane Public Library\, Wazin Îchinabi Ti\, and The Station at Cochrane Crossing! \nVisit the exhibited works at Route 22 from March 8-22nd and join us for the Opening Reception at the Wazin Îchinabi Ti Centre on March 8th from 1:00 – 3:00 PM. \nVisitors are invited to explore each space to experience the full range of artwork and perspectives featured in this year’s collection.
URL:https://route22gallery.com/event/indigenous-arts-culture-week-opening-reception/
LOCATION:Wazin Îchinabi Ti Centre\, 521 1 St W Unit 6\, Cochrane\, AB\, T4C 0A4\, Canada
CATEGORIES:Exhibitions,Opening Reception
ATTACH;FMTTYPE=image/jpeg:https://route22gallery.com/wp-content/uploads/2026/03/7.jpg
ORGANIZER;CN="Route 22 Artist Collective Gallery":MAILTO:programming@r22backup.tempurl.host
END:VEVENT
BEGIN:VEVENT
DTSTART;TZID=America/Edmonton:20260214T180000
DTEND;TZID=America/Edmonton:20260214T210000
DTSTAMP:20260423T175106
CREATED:20260130T040911Z
LAST-MODIFIED:20260211T025015Z
UID:143168-1771092000-1771102800@route22gallery.com
SUMMARY:Before | After Date Night: Something for Both!
DESCRIPTION:Before | After Date Night: Something for Both! \nValentine’s Day Edition! \nJoin Route 22 for this week’s Saturday evening for lively and engaging “Arts or Not” discussions during your Valentine’s date night social! \nDate: February 14th\, 2026 | Valentine’s Day! \nTime: 6:00 PM – 9:00 PM \n\nA Cash Bar & Hot Beverages will be served along with\nBeer & Big Screen Sports in the Makerspace!\n\n  \n  \nStop by the gallery on your evening stroll to experience firsthand creativity from artist talks\, presentations\, live demos\, & experimentations from our local artist members! \nDate: Saturdays\, Weekly \nTime: 6:00 PM – 8:00 PM \nLocation: Route 22 Artist Collective Gallery \nCost: FREE\, or by donation! \n\nWith optional registration | (Open for drop-in!)\n\nAudience: All Ages! \nRoute 22 Artist Collective Gallery is launching an exciting new experimental series for a casual & creative after-hours gallery experience designed to spark curiosity\, conversation\, and connection! \nThese evenings are designed as an open\, flexible platform where artists can share stories\, test ideas\, showcase works-in-progress\, collaborate with musicians\, or explore new ways of engaging with the public. \nCome explore something new\, meet artists\, and experience the gallery in a whole new way! \nUnable to attend but want to support the arts? \nDonate today! Click the donate button or visit our website at: Support The Gallery – Route 22 (route22gallery.com) \nDid you know that Route 22 Members get a 10% discount on all programming/events? Apply today! Become a Member – Route 22 (route22gallery.com)
URL:https://route22gallery.com/event/before-after-date-night-something-for-both/
LOCATION:Route 22 Artist Collective Gallery\, 208 1 St W 208 1 Street West\, Cochrane\, Alberta\, T4C 2E7\, Canada
CATEGORIES:Exhibitions,Meet the Artists
ATTACH;FMTTYPE=image/jpeg:https://route22gallery.com/wp-content/uploads/2026/01/Valentines-Day-Sat.-Artist-Easel-Feature.jpg
ORGANIZER;CN="Route 22 Artist Collective Gallery":MAILTO:programming@r22backup.tempurl.host
END:VEVENT
BEGIN:VEVENT
DTSTART;TZID=America/Edmonton:20260207T180000
DTEND;TZID=America/Edmonton:20260207T200000
DTSTAMP:20260423T175106
CREATED:20260130T040759Z
LAST-MODIFIED:20260130T040759Z
UID:143166-1770487200-1770494400@route22gallery.com
SUMMARY:Saturday Artist Easel Features!
DESCRIPTION:Saturday Artist Easel Features! \nStop by the gallery on your evening stroll to experience firsthand creativity from artist talks\, presentations\, live demos\, & experimentations from our local artist members! \nDate: Saturdays\, Weekly \nTime: 6:00 PM – 8:00 PM \nLocation: Route 22 Artist Collective Gallery \nCost: FREE with optional registration HERE | (These are open for drop-in!) \nAudience: All Ages! \nRoute 22 Artist Collective Gallery is launching an exciting new experimental series for a casual & creative after-hours gallery experience designed to spark curiosity\, conversation\, and connection! \nThese evenings are designed as an open\, flexible platform where artists can share stories\, test ideas\, showcase works-in-progress\, collaborate with musicians\, or explore new ways of engaging with the public. \nCome explore something new\, meet artists\, and experience the gallery in a whole new way! \n  \nUnable to attend but want to support the arts? \nDonate today! Click the donate button or visit our website at: Support The Gallery – Route 22 (route22gallery.com) \nDid you know that Route 22 Members get a 10% discount on all programming/events? Apply today! Become a Member – Route 22 (route22gallery.com)
URL:https://route22gallery.com/event/saturday-artist-easel-features-2/
LOCATION:Route 22 Artist Collective Gallery\, 208 1 St W 208 1 Street West\, Cochrane\, Alberta\, T4C 2E7\, Canada
CATEGORIES:Artist In-Person Demo,Exhibitions,Meet the Artists
ATTACH;FMTTYPE=image/jpeg:https://route22gallery.com/wp-content/uploads/2026/01/Artist-Easel-Features-Saturday-Evenings.jpg
ORGANIZER;CN="Route 22 Artist Collective Gallery":MAILTO:programming@r22backup.tempurl.host
END:VEVENT
BEGIN:VEVENT
DTSTART;TZID=America/Edmonton:20260131T180000
DTEND;TZID=America/Edmonton:20260131T200000
DTSTAMP:20260423T175106
CREATED:20260130T035409Z
LAST-MODIFIED:20260130T035409Z
UID:143148-1769882400-1769889600@route22gallery.com
SUMMARY:Saturday Artist Easel Features!
DESCRIPTION:Saturday Artist Easel Features! \nStop by the gallery on your evening stroll to experience firsthand creativity from artist talks\, presentations\, live demos\, & experimentations from our local artist members! \nDate: Saturdays\, Weekly \nTime: 6:00 PM – 8:00 PM \nLocation: Route 22 Artist Collective Gallery \nCost: FREE with optional registration HERE | (These are open for drop-in!) \nAudience: All Ages! \nRoute 22 Artist Collective Gallery is launching an exciting new experimental series for a casual & creative after-hours gallery experience designed to spark curiosity\, conversation\, and connection! \nThese evenings are designed as an open\, flexible platform where artists can share stories\, test ideas\, showcase works-in-progress\, collaborate with musicians\, or explore new ways of engaging with the public. \nCome explore something new\, meet artists\, and experience the gallery in a whole new way! \n  \nUnable to attend but want to support the arts? \nDonate today! Click the donate button or visit our website at: Support The Gallery – Route 22 (route22gallery.com) \nDid you know that Route 22 Members get a 10% discount on all programming/events? Apply today! Become a Member – Route 22 (route22gallery.com)
URL:https://route22gallery.com/event/saturday-artist-easel-features/
LOCATION:Route 22 Artist Collective Gallery\, 208 1 St W 208 1 Street West\, Cochrane\, Alberta\, T4C 2E7\, Canada
CATEGORIES:Artist In-Person Demo,Exhibitions,Meet the Artists
ATTACH;FMTTYPE=image/jpeg:https://route22gallery.com/wp-content/uploads/2026/01/Artist-Easel-Features-Saturday-Evenings.jpg
ORGANIZER;CN="Route 22 Artist Collective Gallery":MAILTO:programming@r22backup.tempurl.host
END:VEVENT
END:VCALENDAR