BEGIN:VCALENDAR
VERSION:2.0
PRODID:-//Route 22 - ECPv6.15.18//NONSGML v1.0//EN
CALSCALE:GREGORIAN
METHOD:PUBLISH
X-ORIGINAL-URL:https://route22gallery.com
X-WR-CALDESC:Events for Route 22
REFRESH-INTERVAL;VALUE=DURATION:PT1H
X-Robots-Tag:noindex
X-PUBLISHED-TTL:PT1H
BEGIN:VTIMEZONE
TZID:America/Edmonton
BEGIN:DAYLIGHT
TZOFFSETFROM:-0700
TZOFFSETTO:-0600
TZNAME:MDT
DTSTART:20240310T090000
END:DAYLIGHT
BEGIN:STANDARD
TZOFFSETFROM:-0600
TZOFFSETTO:-0700
TZNAME:MST
DTSTART:20241103T080000
END:STANDARD
BEGIN:DAYLIGHT
TZOFFSETFROM:-0700
TZOFFSETTO:-0600
TZNAME:MDT
DTSTART:20250309T090000
END:DAYLIGHT
BEGIN:STANDARD
TZOFFSETFROM:-0600
TZOFFSETTO:-0700
TZNAME:MST
DTSTART:20251102T080000
END:STANDARD
BEGIN:DAYLIGHT
TZOFFSETFROM:-0700
TZOFFSETTO:-0600
TZNAME:MDT
DTSTART:20260308T090000
END:DAYLIGHT
BEGIN:STANDARD
TZOFFSETFROM:-0600
TZOFFSETTO:-0700
TZNAME:MST
DTSTART:20261101T080000
END:STANDARD
END:VTIMEZONE
BEGIN:VEVENT
DTSTART;TZID=America/Edmonton:20251207T130000
DTEND;TZID=America/Edmonton:20251207T150000
DTSTAMP:20260424T010413
CREATED:20251031T072004Z
LAST-MODIFIED:20251031T072004Z
UID:140788-1765112400-1765119600@route22gallery.com
SUMMARY:Seal Skin Brooch Workshop!
DESCRIPTION:Seal Skin Brooch Workshop! \n\n\n\nJoin local Inuit artisan Denise Bryan and learn the culture and process of making a seal skin brooch! \nEnter into Route 22 Gallery’s festive makerspace for this relaxed social holiday workshop and learn more about Inuit culture while making a beautiful authentic seal fur brooch! \n“The heart of Inuit culture beats with the rhythm of the Arctic\, embracing the land\, the sea\, and the sky.” \n\nLearn how Inuit people have many uses for seal\, such as tools made from bones\, fur for clothing\, and meat for their traditional diet!\n\n  \nMaterials Provided: \n– With a value of $50\, materials are sourced ethically and traditionally from Canada’s far north! \nDate: \n– Sunday\, December 7 \nTime: \n– 1:00 PM – 3:00 PM \nAges: 16+ \nLocation: Route 22 Artist Collective Gallery \nFees: \n– Full cost of workshop\, including materials: $100 +GST | Fees \nMore information & registration HERE! \n  \nAbout the Artist: \nDenise Bryan\, known by her Inuinaqtun name Angasina\, is a proud descendant of the Copper-Inuit from the northern community of Kugluktuk\, Nunavut (formerly Coppermine\, NWT). \nShe now resides in Calgary with her husband\, Ken Bryan\, the love of her life. Angasina was named by her grandfather after her great-grandmother from Alaska\, a name that carries deep familial and cultural significance. Growing up on the land with her family\, Denise spent weekends camping\, hunting\, fishing\, and trapping. These experiences were enriched by the making of traditional clothing such as mukluks\, seal fur mitts\, parkas\, and carry bags. Her family also prepared traditional foods like caribou\, seal\, arctic char\, whitefish\, and occasionally beluga whale. \nDenise’s artistic talents were nurtured by watching her grandfather’s drawings and carvings\, as well as her grandmother’s sewing. Today\, she continues to honor her heritage by creating her own Inuit clothing\, drawings\, and paintings\, keeping her culture alive and vibrant. \n 
URL:https://route22gallery.com/event/seal-skin-brooch-workshop-2/
LOCATION:208 1 St W\, Cochrane\, AB T4C 2E7\, 208 1 St W\, Cochrane\, Alberta\, T4C 2E7\, Canada
CATEGORIES:Workshops
ATTACH;FMTTYPE=image/png:https://route22gallery.com/wp-content/uploads/2025/11/Inuit-Seal-Skin-Brooch-Workshop-Denise-Bryan-Dec-7-1.png
END:VEVENT
END:VCALENDAR