BEGIN:VCALENDAR
VERSION:2.0
PRODID:-//Route 22 - ECPv6.15.18//NONSGML v1.0//EN
CALSCALE:GREGORIAN
METHOD:PUBLISH
X-WR-CALNAME:Route 22
X-ORIGINAL-URL:https://route22gallery.com
X-WR-CALDESC:Events for Route 22
REFRESH-INTERVAL;VALUE=DURATION:PT1H
X-Robots-Tag:noindex
X-PUBLISHED-TTL:PT1H
BEGIN:VTIMEZONE
TZID:America/Edmonton
BEGIN:DAYLIGHT
TZOFFSETFROM:-0700
TZOFFSETTO:-0600
TZNAME:MDT
DTSTART:20240310T090000
END:DAYLIGHT
BEGIN:STANDARD
TZOFFSETFROM:-0600
TZOFFSETTO:-0700
TZNAME:MST
DTSTART:20241103T080000
END:STANDARD
BEGIN:DAYLIGHT
TZOFFSETFROM:-0700
TZOFFSETTO:-0600
TZNAME:MDT
DTSTART:20250309T090000
END:DAYLIGHT
BEGIN:STANDARD
TZOFFSETFROM:-0600
TZOFFSETTO:-0700
TZNAME:MST
DTSTART:20251102T080000
END:STANDARD
BEGIN:DAYLIGHT
TZOFFSETFROM:-0700
TZOFFSETTO:-0600
TZNAME:MDT
DTSTART:20260308T090000
END:DAYLIGHT
BEGIN:STANDARD
TZOFFSETFROM:-0600
TZOFFSETTO:-0700
TZNAME:MST
DTSTART:20261101T080000
END:STANDARD
END:VTIMEZONE
BEGIN:VEVENT
DTSTART;TZID=America/Edmonton:20250930T133000
DTEND;TZID=America/Edmonton:20250930T163000
DTSTAMP:20260421T053511
CREATED:20250814T184546Z
LAST-MODIFIED:20250913T070053Z
UID:139309-1759239000-1759249800@route22gallery.com
SUMMARY:National Day for Truth & Reconciliation | Afternoon Showcase & Public Event
DESCRIPTION:National Day for Truth & Reconciliation \nLearn about this unique art form from artist Michelle Wiebe\, its role in the residential school system\, and create a custom themed postcard as a token of truth and reconciliation. \nThis event is FREE & open to the public. \nDATE: September 30\, 2025 \nTIME: 1:30 PM – 4:30 PM \nLOCATION: The Station at Cochrane Crossing | 360 Railway St. W\, Cochrane AB \nThe day will begin with a flag raising and moment of silence\, followed by reflections from local First Nation Elders and Métis Knowledge Keepers. Guests are invited to engage in reconciliation-focused art and music activities\, spend time in the tipi\, observe traditional hide tanning\, and experience cultural demonstrations shared by local Indigenous community members. \n*Bannock and refreshments will be provided for the first 400 people.* \nJoin us and the Town of Cochrane to create a space for reflection\, learning\, and reconciliation with Indigenous peoples.
URL:https://route22gallery.com/event/national-day-for-truth-reconciliation-afternoon-showcase-public-event/
LOCATION:The Station at Cochrane Crossing\, 360 Railway St W\, Cochrane\, Alberta\, T4C 2E2\, Canada
ATTACH;FMTTYPE=image/png:https://route22gallery.com/wp-content/uploads/2025/08/NDTR-Social-Post-1.png
ORGANIZER;CN="Route 22 Artist Collective Gallery":MAILTO:programming@r22backup.tempurl.host
END:VEVENT
END:VCALENDAR