BEGIN:VCALENDAR
VERSION:2.0
PRODID:-//Route 22 - ECPv6.15.18//NONSGML v1.0//EN
CALSCALE:GREGORIAN
METHOD:PUBLISH
X-WR-CALNAME:Route 22
X-ORIGINAL-URL:https://route22gallery.com
X-WR-CALDESC:Events for Route 22
REFRESH-INTERVAL;VALUE=DURATION:PT1H
X-Robots-Tag:noindex
X-PUBLISHED-TTL:PT1H
BEGIN:VTIMEZONE
TZID:America/Edmonton
BEGIN:DAYLIGHT
TZOFFSETFROM:-0700
TZOFFSETTO:-0600
TZNAME:MDT
DTSTART:20240310T090000
END:DAYLIGHT
BEGIN:STANDARD
TZOFFSETFROM:-0600
TZOFFSETTO:-0700
TZNAME:MST
DTSTART:20241103T080000
END:STANDARD
BEGIN:DAYLIGHT
TZOFFSETFROM:-0700
TZOFFSETTO:-0600
TZNAME:MDT
DTSTART:20250309T090000
END:DAYLIGHT
BEGIN:STANDARD
TZOFFSETFROM:-0600
TZOFFSETTO:-0700
TZNAME:MST
DTSTART:20251102T080000
END:STANDARD
BEGIN:DAYLIGHT
TZOFFSETFROM:-0700
TZOFFSETTO:-0600
TZNAME:MDT
DTSTART:20260308T090000
END:DAYLIGHT
BEGIN:STANDARD
TZOFFSETFROM:-0600
TZOFFSETTO:-0700
TZNAME:MST
DTSTART:20261101T080000
END:STANDARD
END:VTIMEZONE
BEGIN:VEVENT
DTSTART;TZID=America/Edmonton:20251024T180000
DTEND;TZID=America/Edmonton:20251024T230000
DTSTAMP:20260421T072406
CREATED:20250906T064710Z
LAST-MODIFIED:20250906T064710Z
UID:139700-1761328800-1761346800@route22gallery.com
SUMMARY:Cochrane & District Chamber of Commerce Business Excellence Awards
DESCRIPTION:Route 22’s Business Excellence Awards Nomination! \nCochrane & District Chamber of Commerce Business Excellence Awards is a brand new annual celebration dedicated to honouring the incredible small businesses that shape our town\, with support from the Town of Cochrane\, Community Futures Centre West\, Explore Cochrane\, Cochrane Business Network and Innovate Cochrane. \nRoute 22 Artist Collective Gallery has been wonderfully nominated for the:\n– Tourism & Community Attraction Award\n– Emerging Business Award\n– and the Greatest Impact Award!! \nDATE: Friday\, October 24th\, 2025 \nTIME: 6:00 PM – 11:00 PM \nLOCATION: Cochrane Lions Event Centre | 109 5th Ave\, Cochrane\, AB \nCOST: \n– Chamber Members: $85 dollars per ticket\n– Non Chamber Members: $95 dollars per ticket \nCocktails at 6pm with roast beef dinner\, awards and entertainment to follow. \nJoin us alongside the other incredible small businesses that shape our town\, with support from the Town of Cochrane – as we celebrate local excellence\, spark new connections\, and kick off a tradition of recognizing Cochrane’s entrepreneurial spirit for years to come! \nTickets to this celebration can be found at cochranechamber.ca!
URL:https://route22gallery.com/event/cochrane-district-chamber-of-commerce-business-excellence-awards/
LOCATION:Cochrane Lions Event Centre\, 109 5th Ave\, Cochrane\, AB\, T4C 2C3\, Canada
ATTACH;FMTTYPE=image/png:https://route22gallery.com/wp-content/uploads/2025/09/Cochrane-Chamber-Business-Award-Nomination-GRAPHIC.png
ORGANIZER;CN="Cochrane & District Chamber of Commerce":MAILTO:Jennifer.wanner@cochranechamber.ca
END:VEVENT
END:VCALENDAR